Workbook

Sheet Raw (untouched)
A1: Work sample — fictional scenario
A3: Week_Start | B3: Channel | C3: Orders | D3: Gross_Sales_USD | E3: Returns_USD | F3: On_Time_Ship_Pct
A4: 2026-06-29 | B4: DTC Online | C4: 405 | D4: 37131.64 | E4: 2328.78 | F4: 96.6
A5: 2026-06-29 | B5: TrailMart | C5: 161 | D5: 65123.41 | E5: 1412.2 | F5: 97.5
A6: 2026-06-29 | B6: Other Wholesale | C6: 81 | D6: 26552.63 | E6: 578.15 | F6: 96.7
A7: 2026-07-06 | B7: DTC Online | C7: 418 | D7: 41007.93 | E7: 2310.12 | F7: 96.5
A8: 2026-07-06 | B8: TrailMart | C8: 163 | D8: 69822.04 | E8: 1785.93 | F8: 97
A9: 2026-07-06 | B9: Other Wholesale | C9: 98 | D9: 30873.65 | E9: 854.85 | F9: 96.8
A10: 2026-07-13 | B10: DTC Online | C10: 399 | D10: 36456.24 | E10: 2302.23 | F10: 97.3
A11: 2026-07-13 | B11: Trailmart | C11: 147 | D11: 60761.8 | E11: 1582.35 | F11: 96.7
A12: 2026-07-13 | B12: Other Wholesale | C12: 91 | D12: 28717.06 | E12: 623.07 | F12: 96.4
A13: 2026-07-20 | B13: DTC Online | C13: 450 | D13: 42440.46 | E13: 2825.23 | F13: 96.5
A14: 2026-07-20 | B14: TrailMart | C14: 155 | D14: 62277.52 | E14: 1694.44 | F14: 97.1
A15: 2026-07-20 | B15: Other Wholesale | C15: 86 | D15: 28591.21 | E15: -720.18 | F15: 97.5
... A42: 2026-09-21 | B42: Other Wholesale | C42: 85 | D42: 29315.01 | E42: 739.09 | F42: 93.8

Sheet Clean
A1: Work sample — fictional scenario
A4: Week_Start | B4: Channel | C4: Orders | D4: Gross_Sales_USD | E4: Returns_USD | F4: On_Time_Ship_Pct
A5: 46202 | B5: DTC Online | C5: 405 | D5: 37131.64 | E5: 2328.78 | F5: 0.966
A6: 46202 | B6: TrailMart | C6: 161 | D6: 65123.41 | E6: 1412.2 | F6: 0.975
A7: 46202 | B7: Other Wholesale | C7: 81 | D7: 26552.63 | E7: 578.15 | F7: 0.967 | H7: Second-method check: pivot table on Clean_Q3 (refresh after any change)
A8: 46209 | B8: DTC Online | C8: 418 | D8: 41007.93 | E8: 2310.12 | F8: 0.965 | H8: Row Labels | I8: Pivot gross (USD) | J8: Pivot returns (USD)
A9: 46209 | B9: TrailMart | C9: 163 | D9: 69822.04 | E9: 1785.93 | F9: 0.97 | H9: DTC Online | I9: 546379.3 | J9: 44367.06
A10: 46209 | B10: Other Wholesale | C10: 98 | D10: 30873.65 | E10: 854.85 | F10: 0.968 | H10: Other Wholesale | I10: 355812.79 | J10: 7774.26
A11: 46216 | B11: DTC Online | C11: 399 | D11: 36456.24 | E11: 2302.23 | F11: 0.973 | H11: TrailMart | I11: 739819.81 | J11: 19611.54
A12: 46216 | B12: TrailMart | C12: 147 | D12: 60761.8 | E12: 1582.35 | F12: 0.967 | H12: Grand Total | I12: 1642011.9 | J12: 71752.86
A13: 46216 | B13: Other Wholesale | C13: 91 | D13: 28717.06 | E13: 623.07 | F13: 0.964
A14: 46223 | B14: DTC Online | C14: 450 | D14: 42440.46 | E14: 2825.23 | F14: 0.965
A15: 46223 | B15: TrailMart | C15: 155 | D15: 62277.52 | E15: 1694.44 | F15: 0.971 | H15: Reconciliation: Dashboard formulas (SUMIFS) vs pivot
A16: 46223 | B16: Other Wholesale | C16: 86 | D16: 28591.21 | F16: 0.975 | H16: Channel | I16: Dashboard gross | J16: Pivot gross | K16: Difference | L16: Dashboard DTC returns vs pivot
A17: 46230 | B17: DTC Online | C17: 460 | D17: 42773.29 | E17: 3621.18 | F17: 0.951 | H17: =Dashboard!A12 -> DTC Online | I17: =Dashboard!B12 -> 546379.3 | J17: =GETPIVOTDATA("Pivot gross (USD)",$H$8,"Channel",H17) -> 546379.3 | K17: =I17-J17 -> 0 | L17: =Dashboard!B61-GETPIVOTDATA("Pivot returns (USD)",$H$8,"Channel",H17) -> 0
A18: 46230 | B18: TrailMart | C18: 153 | D18: 64343.05 | E18: 1440.63 | F18: 0.965 | H18: =Dashboard!A13 -> TrailMart | I18: =Dashboard!B13 -> 739819.81 | J18: =GETPIVOTDATA("Pivot gross (USD)",$H$8,"Channel",H18) -> 739819.81 | K18: =I18-J18 -> 0
A19: 46230 | B19: Other Wholesale | C19: 83 | D19: 27850.74 | E19: 751.53 | F19: 0.966 | H19: =Dashboard!A14 -> Other Wholesale | I19: =Dashboard!B14 -> 355812.79 | J19: =GETPIVOTDATA("Pivot gross (USD)",$H$8,"Channel",H19) -> 355812.79 | K19: =I19-J19 -> 0
A20: 46237 | B20: DTC Online | C20: 478 | D20: 44564.23 | E20: 3656.08 | F20: 0.957 | H20: Total | I20: =Dashboard!B15 -> 1642011.9 | J20: =GETPIVOTDATA("Pivot gross (USD)",$H$8) -> 1642011.9 | K20: =I20-J20 -> 0
A21: 46237 | B21: TrailMart | C21: 157 | D21: 64088.09 | E21: 1765.61 | F21: 0.971
A22: 46237 | B22: Other Wholesale | C22: 91 | D22: 30522.95 | E22: 662.5 | F22: 0.967 | H22: Status | I22: {=IF(AND(ROUND(SUMPRODUCT(ABS(K17:K20)),2)=0,ROUND(L17,2)=0),"RECONCILED","CHECK")} -> RECONCILED
A23: 46244 | B23: DTC Online | C23: 463 | D23: 46153.88 | E23: 4099.52 | F23: 0.947
A24: 46244 | B24: TrailMart | C24: 150 | D24: 62537.21 | E24: 1339.5 | F24: 0.959
A25: 46244 | B25: Other Wholesale | C25: 86 | D25: 27293.32 | E25: 592.05 | F25: 0.965 | H25: Q3 budget and targets
A26: 46251 | B26: DTC Online | C26: 421 | D26: 38985.59 | E26: 3186.51 | F26: 0.954
A27: 46251 | B27: TrailMart | C27: 140 | D27: 57108.34 | E27: 1448.88 | F27: 0.965 | H27: Channel | I27: Q3 gross sales budget (USD)
A28: 46251 | B28: Other Wholesale | C28: 98 | D28: 33517.13 | E28: 782.23 | F28: 0.956 | H28: DTC Online | I28: 520000
A29: 46258 | B29: DTC Online | C29: 447 | D29: 44096.47 | E29: 4413.36 | F29: 0.936 | H29: TrailMart | I29: 860000
A30: 46258 | B30: TrailMart | C30: 142 | E30: 1303.17 | F30: 0.955 | H30: Other Wholesale | I30: 380000
A31: 46258 | B31: Other Wholesale | C31: 94 | D31: 30284.04 | E31: 644.47 | F31: 0.953 | H31: Total | I31: 1760000
A32: 46265 | B32: DTC Online | C32: 453 | D32: 43320.5 | E32: 4502.63 | F32: 0.943
A33: 46265 | B33: TrailMart | C33: 151 | D33: 62638.02 | E33: 1648.73 | F33: 0.944 | H33: On-time shipping target: 95% or higher, every channel, every week.
A34: 46265 | B34: Other Wholesale | C34: 100 | D34: 33923.9 | E34: 943.38 | F34: 0.958 | H34: DTC returns target: returns of 7.0% of gross sales or lower.
A35: 46272 | B35: DTC Online | C35: 460 | D35: 43258.54 | E35: 3620.77 | F35: 0.938
A36: 46272 | B36: TrailMart | C36: 137 | D36: 53739.79 | E36: 1226.11 | F36: 0.943
A37: 46272 | B37: Other Wholesale | C37: 90 | D37: 28371.15 | E37: 602.94 | F37: 0.943
A38: 46279 | B38: DTC Online | C38: 437 | D38: 40948.78 | E38: 3459.29 | F38: 0.938
A39: 46279 | B39: TrailMart | C39: 152 | D39: 60129.77 | E39: 1391.52 | F39: 0.944
A40: 46279 | B40: Other Wholesale
A41: 46286 | B41: DTC Online | C41: 477 | D41: 45241.75 | E41: 4041.36 | F41: 0.919
A42: 46286 | B42: TrailMart | C42: 143 | D42: 57250.77 | E42: 1572.47 | F42: 0.938
A43: 46286 | B43: Other Wholesale | C43: 85 | D43: 29315.01 | E43: 739.09 | F43: 0.938

Sheet Cleaning log
A1: Work sample — fictional scenario
A3: Cleaning log
A5: # | B5: Column | C5: Problem found | D5: Action taken
A6: 1 | B6: Gross_Sales_USD | C6: Every value stored as text, not a number | D6: Converted to numbers
A7: 2 | B7: Gross_Sales_USD | C7: "$44,564.23" has a $ sign and a thousands comma inside the text | D7: Removed $ and comma; stored 44,564.23
A8: 3 | B8: Week_Start | C8: Normalized date mask (MM/DD/YYYY); all others are YYYY-MM-DD | D8: Converted to 2026-07-27; whole column stored as real dates
A9: 4 | B9: Channel | C9: "Trailmart" (lower-case m) | D9: Changed to "TrailMart"
A10: 5 | B10: Channel | C10: "DTC online " (lower-case o + trailing space) | D10: Changed to "DTC Online"
A11: 6 | B11: On_Time_Ship_Pct | C11: Mixed scales: 96.6 style (whole number) vs 0.951 on row 16 | D11: Divided whole numbers by 100; row 16 left as 0.951 (95.1%)
A12: 7 | B12: All | C12: TrailMart 03-Aug appears twice with identical values | D12: Kept row 20; removed row 21
A13: 8 | B13: Gross_Sales_USD | C13: TrailMart 24-Aug = 566,594.50, about 10x a normal week (other weeks $54K–$70K; orders 142 are normal) | D13: Excluded from headline totals (cell left blank on Clean); corrected view shown separately on Dashboard at $56,659.45, flagged as probable decimal slip, pending Tom
A14: 9 | B14: Returns_USD | C14: Other Wholesale 20-Jul returns = -720.18 (negative) | D14: Excluded (blank on Clean); NOT corrected
A15: 10 | B15: All | C15: Other Wholesale week of 14-Sep is missing: 38 unique rows vs 39 expected (13 weeks x 3) | D15: Added a blank, flagged row; NOT estimated
A16: 11 | B16: n/a | C16: Budget table supplied with the export (not part of Tom's weekly data) | D16: Used as Dashboard budget inputs. Raw data rows untouched.
A19: Covering email to Dana (draft, 5 sentences)
A20: Hi Dana, attached is the one-page Q3 dashboard for Monday, cleaned from Tom's weekly export (11 fixes listed on the Cleaning log). Comparing like for like on the weeks reported, Q3 sales were $22,603 (1.4%) under budget, driven by TrailMart (−6.8%), while DTC beat budget (+5.1%) but its returns ran at 8.1% against the 7.0% target. On-time shipping fell below 95% in every channel by late September, which matters with peak coming. Data gaps: Other Wholesale's 14 Sep week is missing, and TrailMart's 24 Aug sales ($566,595, about 10x a normal week) can't be trusted, so both are excluded from the headline and budgets are pro-rated to the weeks reported. The dashboard also shows TrailMart with 24 Aug at $56,659.45 (−7.4% vs budget), flagged as a probable decimal slip pending Tom, who should confirm both gaps after close.
A24: Three-line log
A25: Actual time: | B25: 2 hrs against a 90-minute box (third session in a row over 90 minutes).
A26: Hardest call: | B26: The hardest call was TrailMart 24 Aug ($566,594.50): 142 orders is a normal week and the figure is exactly $56,659.45 with the decimal shifted one place, so I kept it out of the headline and showed the corrected view separately, flagged as a probable decimal slip pending Tom. Other Wholesale also had a negative return (−$720.18, 20 Jul) and no row for the week of 14 Sep, and because I could not tell whether that was missing data or a week with no sales, both are excluded and flagged for Tom.
A27: What I'd change: | B27: Rebuild the cleaning in Power Query so every step is recorded and repeatable for Q4, and ask Tom for an export with a fixed number format.

Sheet Dashboard
A1: Work sample — fictional scenario
A4: So what
A5: 1. Budget: for the weeks reported, Q3 sales were $22,603 (1.4%) below budget. TrailMart is the whole gap at −$54,026 (−6.8%), while DTC is $26,379 ahead and Other Wholesale $5,044 ahead. If TrailMart's 24 Aug is a decimal slip ($56,659.45), TrailMart is −$63,521 (−7.4%) over 13 weeks; confirm with Tom before the board meeting.
A6: 2. DTC returns: the weekly returns rate went from 6.3% to 8.9% and was above the 7.0% target in 9 of 13 weeks. Returns above target cost $6,121, about 23% of DTC's gain over budget.
A7: 3. Shipping: in the last week of Q3, all three channels were below the 95% on-time target (DTC 91.9%, TrailMart 93.8%, Other Wholesale 93.8%). With peak season coming and peak temps reduced from 25 to 20, on-time shipping is likely to drop further unless capacity is protected.
A9: 1. Are we on budget by channel? | I9: 2. Are DTC returns getting worse?
A10: Mostly. For the weeks reported, sales were $1,642,012 against $1,664,615 (−1.4%). DTC +5.1% (13 weeks), TrailMart −6.8% and Other Wholesale +1.4% (12 weeks each). The full $1,760,000 budget is shown for reference only. | I10: Yes. Weekly DTC returns went from 6.3% (29 Jun) to 8.9% (21 Sep), with a high of 10.4%. Q3 rate is 8.1% against a 7.0% target, and has been above target every week since 27 Jul.
A11: Channel | B11: Q3 actual (USD) | C11: Full Q3 budget (USD, ref.) | D11: Weeks of data (of 13) | E11: Budget for weeks reported (USD) | F11: Variance (USD) | G11: Variance %
A12: =A54 -> DTC Online | B12: =SUMIFS(Clean_Q3[Gross_Sales_USD],Clean_Q3[Channel],$A12) -> 546379.3 | C12: =SUMIFS($B$54:$B$56,$A$54:$A$56,$A12) -> 520000 | D12: =COUNTIFS(Clean_Q3[Channel],$A12,Clean_Q3[Gross_Sales_USD],"<>") -> 13 | E12: =C12*D12/13 -> 520000 | F12: =B12-E12 -> 26379.3 | G12: =F12/E12 -> 0.050729423
A13: =A55 -> TrailMart | B13: =SUMIFS(Clean_Q3[Gross_Sales_USD],Clean_Q3[Channel],$A13) -> 739819.81 | C13: =SUMIFS($B$54:$B$56,$A$54:$A$56,$A13) -> 860000 | D13: =COUNTIFS(Clean_Q3[Channel],$A13,Clean_Q3[Gross_Sales_USD],"<>") -> 12 | E13: =C13*D13/13 -> 793846.15 | F13: =B13-E13 -> -54026.344 | G13: =F13/E13 -> -0.068056441
A14: =A56 -> Other Wholesale | B14: =SUMIFS(Clean_Q3[Gross_Sales_USD],Clean_Q3[Channel],$A14) -> 355812.79 | C14: =SUMIFS($B$54:$B$56,$A$54:$A$56,$A14) -> 380000 | D14: =COUNTIFS(Clean_Q3[Channel],$A14,Clean_Q3[Gross_Sales_USD],"<>") -> 12 | E14: =C14*D14/13 -> 350769.23 | F14: =B14-E14 -> 5043.5592 | G14: =F14/E14 -> 0.014378568
A15: Total | B15: =SUM(B12:B14) -> 1642011.9 | C15: =SUM(C12:C14) -> 1760000 | E15: =SUM(E12:E14) -> 1664615.4 | F15: =B15-E15 -> -22603.485 | G15: =F15/E15 -> -0.013578803
A17: Scenario, pending Tom: TrailMart with 24 Aug at $56,659.45 (probable decimal slip) | B17: =B13+$B$63 -> 796479.26 | C17: =C13 -> 860000 | D17: =D13+1 -> 13 | E17: =C17*D17/13 -> 860000 | F17: =B17-E17 -> -63520.74 | G17: =F17/E17 -> -0.073861326
A30: 3. Is on-time shipping holding up before peak? | I30: 4. Which channel is carrying us?
A31: No. All channels were below 95% by September. Weeks below target: DTC 6, TrailMart 4, Other Wholesale 2 (Other Wholesale 14 Sep missing). DTC was lowest at 91.9%. | I31: TrailMart is the largest channel at 45.1% of Q3 sales, but its weekly average fell 8.5% from H1 to H2 (24 Aug excluded). DTC grew 5.9% and Other Wholesale grew 5.5%.
I32: Channel | J32: Q3 sales (USD) | K32: Share of Q3 | L32: H1 avg / week | M32: H2 avg / week | N32: H2 vs H1
I33: =A12 -> DTC Online | J33: =B12 -> 546379.3 | K33: =J33/$J$36 -> 0.3327499 | L33: =AVERAGEIFS(Clean_Q3[Gross_Sales_USD],Clean_Q3[Channel],$I33,Clean_Q3[Week_Start],"<"&$B$58) -> 40728.965 | M33: =AVERAGEIFS(Clean_Q3[Gross_Sales_USD],Clean_Q3[Channel],$I33,Clean_Q3[Week_Start],">="&$B$58) -> 43143.644 | N33: =M33/L33-1 -> 0.059286537
I34: =A13 -> TrailMart | J34: =B13 -> 739819.81 | K34: =J34/$J$36 -> 0.45055691 | L34: =AVERAGEIFS(Clean_Q3[Gross_Sales_USD],Clean_Q3[Channel],$I34,Clean_Q3[Week_Start],"<"&$B$58) -> 64402.652 | M34: =AVERAGEIFS(Clean_Q3[Gross_Sales_USD],Clean_Q3[Channel],$I34,Clean_Q3[Week_Start],">="&$B$58) -> 58900.65 | N34: =M34/L34-1 -> -0.085431291
I35: =A14 -> Other Wholesale | J35: =B14 -> 355812.79 | K35: =J35/$J$36 -> 0.21669319 | L35: =AVERAGEIFS(Clean_Q3[Gross_Sales_USD],Clean_Q3[Channel],$I35,Clean_Q3[Week_Start],"<"&$B$58) -> 28851.373 | M35: =AVERAGEIFS(Clean_Q3[Gross_Sales_USD],Clean_Q3[Channel],$I35,Clean_Q3[Week_Start],">="&$B$58) -> 30450.758 | N35: =M35/L35-1 -> 0.055435316
I36: Total | J36: =SUM(J33:J35) -> 1642011.9 | K36: =SUM(K33:K35) -> 1 | L36: =SUM(L33:L35) -> 133982.99 | M36: =SUM(M33:M35) -> 132495.05 | N36: =M36/L36-1 -> -0.01110542
A51: Supporting calculations
A53: Channel | B53: Q3 budget (USD)
A54: DTC Online | B54: 520000
A55: TrailMart | B55: 860000
A56: Other Wholesale | B56: 380000
A58: H2 starts (week of) | B58: =DATE(2026,8,10) -> 46244
A59: On-time target | B59: 0.95
A60: DTC returns target | B60: 0.07
A61: DTC Q3 returns (USD) | B61: =SUMIFS(Clean_Q3[Returns_USD],Clean_Q3[Channel],A54) -> 44367.06
A62: DTC Q3 returns rate | B62: =B61/B12 -> 0.081201942
A63: TrailMart 24 Aug probable value (raw ÷ 10) | B63: =VALUE('Raw (untouched)'!D30)/10 -> 56659.45
A65: Weekly KPIs
A66: Week_Start | C66: DTC gross (USD) | D66: DTC returns (USD) | E66: DTC returns rate | F66: Returns target 7.0% | G66: DTC Online | I66: TrailMart | J66: Other Wholesale | K66: On-time target 95%
A67: =MIN(Clean_Q3[Week_Start]) -> 46202 | C67: =SUMIFS(Clean_Q3[Gross_Sales_USD],Clean_Q3[Channel],$A$54,Clean_Q3[Week_Start],$A67) -> 37131.64 | D67: =SUMIFS(Clean_Q3[Returns_USD],Clean_Q3[Channel],$A$54,Clean_Q3[Week_Start],$A67) -> 2328.78 | E67: =D67/C67 -> 0.062716864 | F67: =$B$60 -> 0.07 | G67: =IF(COUNTIFS(Clean_Q3[Channel],G$66,Clean_Q3[Week_Start],$A67,Clean_Q3[On_Time_Ship_Pct],"<>")=0,NA(),AVERAGEIFS(Clean_Q3[On_Time_Ship_Pct],Clean_Q3[Channel],G$66,Clean_Q3[Week_Start],$A67)) -> 0.966 | I67: =IF(COUNTIFS(Clean_Q3[Channel],I$66,Clean_Q3[Week_Start],$A67,Clean_Q3[On_Time_Ship_Pct],"<>")=0,NA(),AVERAGEIFS(Clean_Q3[On_Time_Ship_Pct],Clean_Q3[Channel],I$66,Clean_Q3[Week_Start],$A67)) -> 0.975 | J67: =IF(COUNTIFS(Clean_Q3[Channel],J$66,Clean_Q3[Week_Start],$A67,Clean_Q3[On_Time_Ship_Pct],"<>")=0,NA(),AVERAGEIFS(Clean_Q3[On_Time_Ship_Pct],Clean_Q3[Channel],J$66,Clean_Q3[Week_Start],$A67)) -> 0.967 | K67: =$B$59 -> 0.95
A68: =A67+7 -> 46209 | C68: =SUMIFS(Clean_Q3[Gross_Sales_USD],Clean_Q3[Channel],$A$54,Clean_Q3[Week_Start],$A68) -> 41007.93 | D68: =SUMIFS(Clean_Q3[Returns_USD],Clean_Q3[Channel],$A$54,Clean_Q3[Week_Start],$A68) -> 2310.12 | E68: =D68/C68 -> 0.056333495 | F68: =$B$60 -> 0.07 | G68: =IF(COUNTIFS(Clean_Q3[Channel],G$66,Clean_Q3[Week_Start],$A68,Clean_Q3[On_Time_Ship_Pct],"<>")=0,NA(),AVERAGEIFS(Clean_Q3[On_Time_Ship_Pct],Clean_Q3[Channel],G$66,Clean_Q3[Week_Start],$A68)) -> 0.965 | I68: =IF(COUNTIFS(Clean_Q3[Channel],I$66,Clean_Q3[Week_Start],$A68,Clean_Q3[On_Time_Ship_Pct],"<>")=0,NA(),AVERAGEIFS(Clean_Q3[On_Time_Ship_Pct],Clean_Q3[Channel],I$66,Clean_Q3[Week_Start],$A68)) -> 0.97 | J68: =IF(COUNTIFS(Clean_Q3[Channel],J$66,Clean_Q3[Week_Start],$A68,Clean_Q3[On_Time_Ship_Pct],"<>")=0,NA(),AVERAGEIFS(Clean_Q3[On_Time_Ship_Pct],Clean_Q3[Channel],J$66,Clean_Q3[Week_Start],$A68)) -> 0.968 | K68: =$B$59 -> 0.95
A69: =A68+7 -> 46216 | C69: =SUMIFS(Clean_Q3[Gross_Sales_USD],Clean_Q3[Channel],$A$54,Clean_Q3[Week_Start],$A69) -> 36456.24 | D69: =SUMIFS(Clean_Q3[Returns_USD],Clean_Q3[Channel],$A$54,Clean_Q3[Week_Start],$A69) -> 2302.23 | E69: =D69/C69 -> 0.063150506 | F69: =$B$60 -> 0.07 | G69: =IF(COUNTIFS(Clean_Q3[Channel],G$66,Clean_Q3[Week_Start],$A69,Clean_Q3[On_Time_Ship_Pct],"<>")=0,NA(),AVERAGEIFS(Clean_Q3[On_Time_Ship_Pct],Clean_Q3[Channel],G$66,Clean_Q3[Week_Start],$A69)) -> 0.973 | I69: =IF(COUNTIFS(Clean_Q3[Channel],I$66,Clean_Q3[Week_Start],$A69,Clean_Q3[On_Time_Ship_Pct],"<>")=0,NA(),AVERAGEIFS(Clean_Q3[On_Time_Ship_Pct],Clean_Q3[Channel],I$66,Clean_Q3[Week_Start],$A69)) -> 0.967 | J69: =IF(COUNTIFS(Clean_Q3[Channel],J$66,Clean_Q3[Week_Start],$A69,Clean_Q3[On_Time_Ship_Pct],"<>")=0,NA(),AVERAGEIFS(Clean_Q3[On_Time_Ship_Pct],Clean_Q3[Channel],J$66,Clean_Q3[Week_Start],$A69)) -> 0.964 | K69: =$B$59 -> 0.95
A70: =A69+7 -> 46223 | C70: =SUMIFS(Clean_Q3[Gross_Sales_USD],Clean_Q3[Channel],$A$54,Clean_Q3[Week_Start],$A70) -> 42440.46 | D70: =SUMIFS(Clean_Q3[Returns_USD],Clean_Q3[Channel],$A$54,Clean_Q3[Week_Start],$A70) -> 2825.23 | E70: =D70/C70 -> 0.06656926 | F70: =$B$60 -> 0.07 | G70: =IF(COUNTIFS(Clean_Q3[Channel],G$66,Clean_Q3[Week_Start],$A70,Clean_Q3[On_Time_Ship_Pct],"<>")=0,NA(),AVERAGEIFS(Clean_Q3[On_Time_Ship_Pct],Clean_Q3[Channel],G$66,Clean_Q3[Week_Start],$A70)) -> 0.965 | I70: =IF(COUNTIFS(Clean_Q3[Channel],I$66,Clean_Q3[Week_Start],$A70,Clean_Q3[On_Time_Ship_Pct],"<>")=0,NA(),AVERAGEIFS(Clean_Q3[On_Time_Ship_Pct],Clean_Q3[Channel],I$66,Clean_Q3[Week_Start],$A70)) -> 0.971 | J70: =IF(COUNTIFS(Clean_Q3[Channel],J$66,Clean_Q3[Week_Start],$A70,Clean_Q3[On_Time_Ship_Pct],"<>")=0,NA(),AVERAGEIFS(Clean_Q3[On_Time_Ship_Pct],Clean_Q3[Channel],J$66,Clean_Q3[Week_Start],$A70)) -> 0.975 | K70: =$B$59 -> 0.95
A71: =A70+7 -> 46230 | C71: =SUMIFS(Clean_Q3[Gross_Sales_USD],Clean_Q3[Channel],$A$54,Clean_Q3[Week_Start],$A71) -> 42773.29 | D71: =SUMIFS(Clean_Q3[Returns_USD],Clean_Q3[Channel],$A$54,Clean_Q3[Week_Start],$A71) -> 3621.18 | E71: =D71/C71 -> 0.084659843 | F71: =$B$60 -> 0.07 | G71: =IF(COUNTIFS(Clean_Q3[Channel],G$66,Clean_Q3[Week_Start],$A71,Clean_Q3[On_Time_Ship_Pct],"<>")=0,NA(),AVERAGEIFS(Clean_Q3[On_Time_Ship_Pct],Clean_Q3[Channel],G$66,Clean_Q3[Week_Start],$A71)) -> 0.951 | I71: =IF(COUNTIFS(Clean_Q3[Channel],I$66,Clean_Q3[Week_Start],$A71,Clean_Q3[On_Time_Ship_Pct],"<>")=0,NA(),AVERAGEIFS(Clean_Q3[On_Time_Ship_Pct],Clean_Q3[Channel],I$66,Clean_Q3[Week_Start],$A71)) -> 0.965 | J71: =IF(COUNTIFS(Clean_Q3[Channel],J$66,Clean_Q3[Week_Start],$A71,Clean_Q3[On_Time_Ship_Pct],"<>")=0,NA(),AVERAGEIFS(Clean_Q3[On_Time_Ship_Pct],Clean_Q3[Channel],J$66,Clean_Q3[Week_Start],$A71)) -> 0.966 | K71: =$B$59 -> 0.95
A72: =A71+7 -> 46237 | C72: =SUMIFS(Clean_Q3[Gross_Sales_USD],Clean_Q3[Channel],$A$54,Clean_Q3[Week_Start],$A72) -> 44564.23 | D72: =SUMIFS(Clean_Q3[Returns_USD],Clean_Q3[Channel],$A$54,Clean_Q3[Week_Start],$A72) -> 3656.08 | E72: =D72/C72 -> 0.082040686 | F72: =$B$60 -> 0.07 | G72: =IF(COUNTIFS(Clean_Q3[Channel],G$66,Clean_Q3[Week_Start],$A72,Clean_Q3[On_Time_Ship_Pct],"<>")=0,NA(),AVERAGEIFS(Clean_Q3[On_Time_Ship_Pct],Clean_Q3[Channel],G$66,Clean_Q3[Week_Start],$A72)) -> 0.957 | I72: =IF(COUNTIFS(Clean_Q3[Channel],I$66,Clean_Q3[Week_Start],$A72,Clean_Q3[On_Time_Ship_Pct],"<>")=0,NA(),AVERAGEIFS(Clean_Q3[On_Time_Ship_Pct],Clean_Q3[Channel],I$66,Clean_Q3[Week_Start],$A72)) -> 0.971 | J72: =IF(COUNTIFS(Clean_Q3[Channel],J$66,Clean_Q3[Week_Start],$A72,Clean_Q3[On_Time_Ship_Pct],"<>")=0,NA(),AVERAGEIFS(Clean_Q3[On_Time_Ship_Pct],Clean_Q3[Channel],J$66,Clean_Q3[Week_Start],$A72)) -> 0.967 | K72: =$B$59 -> 0.95
A73: =A72+7 -> 46244 | C73: =SUMIFS(Clean_Q3[Gross_Sales_USD],Clean_Q3[Channel],$A$54,Clean_Q3[Week_Start],$A73) -> 46153.88 | D73: =SUMIFS(Clean_Q3[Returns_USD],Clean_Q3[Channel],$A$54,Clean_Q3[Week_Start],$A73) -> 4099.52 | E73: =D73/C73 -> 0.088822868 | F73: =$B$60 -> 0.07 | G73: =IF(COUNTIFS(Clean_Q3[Channel],G$66,Clean_Q3[Week_Start],$A73,Clean_Q3[On_Time_Ship_Pct],"<>")=0,NA(),AVERAGEIFS(Clean_Q3[On_Time_Ship_Pct],Clean_Q3[Channel],G$66,Clean_Q3[Week_Start],$A73)) -> 0.947 | I73: =IF(COUNTIFS(Clean_Q3[Channel],I$66,Clean_Q3[Week_Start],$A73,Clean_Q3[On_Time_Ship_Pct],"<>")=0,NA(),AVERAGEIFS(Clean_Q3[On_Time_Ship_Pct],Clean_Q3[Channel],I$66,Clean_Q3[Week_Start],$A73)) -> 0.959 | J73: =IF(COUNTIFS(Clean_Q3[Channel],J$66,Clean_Q3[Week_Start],$A73,Clean_Q3[On_Time_Ship_Pct],"<>")=0,NA(),AVERAGEIFS(Clean_Q3[On_Time_Ship_Pct],Clean_Q3[Channel],J$66,Clean_Q3[Week_Start],$A73)) -> 0.965 | K73: =$B$59 -> 0.95
A74: =A73+7 -> 46251 | C74: =SUMIFS(Clean_Q3[Gross_Sales_USD],Clean_Q3[Channel],$A$54,Clean_Q3[Week_Start],$A74) -> 38985.59 | D74: =SUMIFS(Clean_Q3[Returns_USD],Clean_Q3[Channel],$A$54,Clean_Q3[Week_Start],$A74) -> 3186.51 | E74: =D74/C74 -> 0.081735585 | F74: =$B$60 -> 0.07 | G74: =IF(COUNTIFS(Clean_Q3[Channel],G$66,Clean_Q3[Week_Start],$A74,Clean_Q3[On_Time_Ship_Pct],"<>")=0,NA(),AVERAGEIFS(Clean_Q3[On_Time_Ship_Pct],Clean_Q3[Channel],G$66,Clean_Q3[Week_Start],$A74)) -> 0.954 | I74: =IF(COUNTIFS(Clean_Q3[Channel],I$66,Clean_Q3[Week_Start],$A74,Clean_Q3[On_Time_Ship_Pct],"<>")=0,NA(),AVERAGEIFS(Clean_Q3[On_Time_Ship_Pct],Clean_Q3[Channel],I$66,Clean_Q3[Week_Start],$A74)) -> 0.965 | J74: =IF(COUNTIFS(Clean_Q3[Channel],J$66,Clean_Q3[Week_Start],$A74,Clean_Q3[On_Time_Ship_Pct],"<>")=0,NA(),AVERAGEIFS(Clean_Q3[On_Time_Ship_Pct],Clean_Q3[Channel],J$66,Clean_Q3[Week_Start],$A74)) -> 0.956 | K74: =$B$59 -> 0.95
A75: =A74+7 -> 46258 | C75: =SUMIFS(Clean_Q3[Gross_Sales_USD],Clean_Q3[Channel],$A$54,Clean_Q3[Week_Start],$A75) -> 44096.47 | D75: =SUMIFS(Clean_Q3[Returns_USD],Clean_Q3[Channel],$A$54,Clean_Q3[Week_Start],$A75) -> 4413.36 | E75: =D75/C75 -> 0.1000842 | F75: =$B$60 -> 0.07 | G75: =IF(COUNTIFS(Clean_Q3[Channel],G$66,Clean_Q3[Week_Start],$A75,Clean_Q3[On_Time_Ship_Pct],"<>")=0,NA(),AVERAGEIFS(Clean_Q3[On_Time_Ship_Pct],Clean_Q3[Channel],G$66,Clean_Q3[Week_Start],$A75)) -> 0.936 | I75: =IF(COUNTIFS(Clean_Q3[Channel],I$66,Clean_Q3[Week_Start],$A75,Clean_Q3[On_Time_Ship_Pct],"<>")=0,NA(),AVERAGEIFS(Clean_Q3[On_Time_Ship_Pct],Clean_Q3[Channel],I$66,Clean_Q3[Week_Start],$A75)) -> 0.955 | J75: =IF(COUNTIFS(Clean_Q3[Channel],J$66,Clean_Q3[Week_Start],$A75,Clean_Q3[On_Time_Ship_Pct],"<>")=0,NA(),AVERAGEIFS(Clean_Q3[On_Time_Ship_Pct],Clean_Q3[Channel],J$66,Clean_Q3[Week_Start],$A75)) -> 0.953 | K75: =$B$59 -> 0.95
A76: =A75+7 -> 46265 | C76: =SUMIFS(Clean_Q3[Gross_Sales_USD],Clean_Q3[Channel],$A$54,Clean_Q3[Week_Start],$A76) -> 43320.5 | D76: =SUMIFS(Clean_Q3[Returns_USD],Clean_Q3[Channel],$A$54,Clean_Q3[Week_Start],$A76) -> 4502.63 | E76: =D76/C76 -> 0.10393763 | F76: =$B$60 -> 0.07 | G76: =IF(COUNTIFS(Clean_Q3[Channel],G$66,Clean_Q3[Week_Start],$A76,Clean_Q3[On_Time_Ship_Pct],"<>")=0,NA(),AVERAGEIFS(Clean_Q3[On_Time_Ship_Pct],Clean_Q3[Channel],G$66,Clean_Q3[Week_Start],$A76)) -> 0.943 | I76: =IF(COUNTIFS(Clean_Q3[Channel],I$66,Clean_Q3[Week_Start],$A76,Clean_Q3[On_Time_Ship_Pct],"<>")=0,NA(),AVERAGEIFS(Clean_Q3[On_Time_Ship_Pct],Clean_Q3[Channel],I$66,Clean_Q3[Week_Start],$A76)) -> 0.944 | J76: =IF(COUNTIFS(Clean_Q3[Channel],J$66,Clean_Q3[Week_Start],$A76,Clean_Q3[On_Time_Ship_Pct],"<>")=0,NA(),AVERAGEIFS(Clean_Q3[On_Time_Ship_Pct],Clean_Q3[Channel],J$66,Clean_Q3[Week_Start],$A76)) -> 0.958 | K76: =$B$59 -> 0.95
A77: =A76+7 -> 46272 | C77: =SUMIFS(Clean_Q3[Gross_Sales_USD],Clean_Q3[Channel],$A$54,Clean_Q3[Week_Start],$A77) -> 43258.54 | D77: =SUMIFS(Clean_Q3[Returns_USD],Clean_Q3[Channel],$A$54,Clean_Q3[Week_Start],$A77) -> 3620.77 | E77: =D77/C77 -> 0.083700698 | F77: =$B$60 -> 0.07 | G77: =IF(COUNTIFS(Clean_Q3[Channel],G$66,Clean_Q3[Week_Start],$A77,Clean_Q3[On_Time_Ship_Pct],"<>")=0,NA(),AVERAGEIFS(Clean_Q3[On_Time_Ship_Pct],Clean_Q3[Channel],G$66,Clean_Q3[Week_Start],$A77)) -> 0.938 | I77: =IF(COUNTIFS(Clean_Q3[Channel],I$66,Clean_Q3[Week_Start],$A77,Clean_Q3[On_Time_Ship_Pct],"<>")=0,NA(),AVERAGEIFS(Clean_Q3[On_Time_Ship_Pct],Clean_Q3[Channel],I$66,Clean_Q3[Week_Start],$A77)) -> 0.943 | J77: =IF(COUNTIFS(Clean_Q3[Channel],J$66,Clean_Q3[Week_Start],$A77,Clean_Q3[On_Time_Ship_Pct],"<>")=0,NA(),AVERAGEIFS(Clean_Q3[On_Time_Ship_Pct],Clean_Q3[Channel],J$66,Clean_Q3[Week_Start],$A77)) -> 0.943 | K77: =$B$59 -> 0.95
A78: =A77+7 -> 46279 | C78: =SUMIFS(Clean_Q3[Gross_Sales_USD],Clean_Q3[Channel],$A$54,Clean_Q3[Week_Start],$A78) -> 40948.78 | D78: =SUMIFS(Clean_Q3[Returns_USD],Clean_Q3[Channel],$A$54,Clean_Q3[Week_Start],$A78) -> 3459.29 | E78: =D78/C78 -> 0.084478463 | F78: =$B$60 -> 0.07 | G78: =IF(COUNTIFS(Clean_Q3[Channel],G$66,Clean_Q3[Week_Start],$A78,Clean_Q3[On_Time_Ship_Pct],"<>")=0,NA(),AVERAGEIFS(Clean_Q3[On_Time_Ship_Pct],Clean_Q3[Channel],G$66,Clean_Q3[Week_Start],$A78)) -> 0.938 | I78: =IF(COUNTIFS(Clean_Q3[Channel],I$66,Clean_Q3[Week_Start],$A78,Clean_Q3[On_Time_Ship_Pct],"<>")=0,NA(),AVERAGEIFS(Clean_Q3[On_Time_Ship_Pct],Clean_Q3[Channel],I$66,Clean_Q3[Week_Start],$A78)) -> 0.944 | J78: =IF(COUNTIFS(Clean_Q3[Channel],J$66,Clean_Q3[Week_Start],$A78,Clean_Q3[On_Time_Ship_Pct],"<>")=0,NA(),AVERAGEIFS(Clean_Q3[On_Time_Ship_Pct],Clean_Q3[Channel],J$66,Clean_Q3[Week_Start],$A78)) -> #N/A | K78: =$B$59 -> 0.95
A79: =A78+7 -> 46286 | C79: =SUMIFS(Clean_Q3[Gross_Sales_USD],Clean_Q3[Channel],$A$54,Clean_Q3[Week_Start],$A79) -> 45241.75 | D79: =SUMIFS(Clean_Q3[Returns_USD],Clean_Q3[Channel],$A$54,Clean_Q3[Week_Start],$A79) -> 4041.36 | E79: =D79/C79 -> 0.08932811 | F79: =$B$60 -> 0.07 | G79: =IF(COUNTIFS(Clean_Q3[Channel],G$66,Clean_Q3[Week_Start],$A79,Clean_Q3[On_Time_Ship_Pct],"<>")=0,NA(),AVERAGEIFS(Clean_Q3[On_Time_Ship_Pct],Clean_Q3[Channel],G$66,Clean_Q3[Week_Start],$A79)) -> 0.919 | I79: =IF(COUNTIFS(Clean_Q3[Channel],I$66,Clean_Q3[Week_Start],$A79,Clean_Q3[On_Time_Ship_Pct],"<>")=0,NA(),AVERAGEIFS(Clean_Q3[On_Time_Ship_Pct],Clean_Q3[Channel],I$66,Clean_Q3[Week_Start],$A79)) -> 0.938 | J79: =IF(COUNTIFS(Clean_Q3[Channel],J$66,Clean_Q3[Week_Start],$A79,Clean_Q3[On_Time_Ship_Pct],"<>")=0,NA(),AVERAGEIFS(Clean_Q3[On_Time_Ship_Pct],Clean_Q3[Channel],J$66,Clean_Q3[Week_Start],$A79)) -> 0.938 | K79: =$B$59 -> 0.95
